{
 "currentVersion": 11.5,
 "serviceDescription": "Image/Sanborn1890_S10_tif",
 "serviceItemId": "32154c032d36471982384dcb1a3798a3",
 "name": "Image/Sanborn1890_S10_tif",
 "description": "",
 "extent": {
  "xmin": -111.84099666974241,
  "ymin": 41.7313886141556,
  "xmax": -111.83681183416213,
  "ymax": 41.73503788092442,
  "spatialReference": {
   "wkid": 4326,
   "latestWkid": 4326,
   "vcsWkid": 5773,
   "latestVcsWkid": 5773
  }
 },
 "initialExtent": {
  "xmin": -111.84099666974241,
  "ymin": 41.7313886141556,
  "xmax": -111.83681183416213,
  "ymax": 41.73503788092442,
  "spatialReference": {
   "wkid": 4326,
   "latestWkid": 4326,
   "vcsWkid": 5773,
   "latestVcsWkid": 5773
  }
 },
 "fullExtent": {
  "xmin": -111.84099666974241,
  "ymin": 41.7313886141556,
  "xmax": -111.83681183416213,
  "ymax": 41.73503788092442,
  "spatialReference": {
   "wkid": 4326,
   "latestWkid": 4326,
   "vcsWkid": 5773,
   "latestVcsWkid": 5773
  }
 },
 "sortableFields": "",
 "heightModelInfo": {
  "heightModel": "gravity_related_height",
  "vertCRS": "EGM96_Geoid",
  "heightUnit": "meter"
 },
 "bandCount": 3,
 "pixelType": "U8",
 "minValues": [
  0,
  0,
  0
 ],
 "maxValues": [
  254,
  254,
  254
 ],
 "meanValues": [
  229.52759553509,
  226.38584568296,
  208.41719674114
 ],
 "stdvValues": [
  28.473866485892,
  29.542368698907,
  30.782813094291
 ],
 "serviceProperties": "Center<\/MosaicMethod>First<\/MosaicOperator>true<\/SortAscending><\/LockImageID><\/TileOrderField>0<\/TileOrderBase>0.000000<\/AvgImageSpacingX>0.000000<\/AvgImageSpacingY>0.0<\/ViewPointX>0.0<\/ViewPointY>0.0<\/ViewPointDefShiftX>0.0<\/ViewPointDefShiftY>None<\/CompressionMethod>75<\/CompressionQuality>0.010000<\/CompressionTolerance>Bilinear<\/SamplingMethod><\/ImageServiceProperties><\/ImageServer>",
 "allowedFields": "",
 "hasMultidimensions": false,
 "pixelSizeX": 7.398931365409483E-7,
 "pixelSizeY": 7.381203011377515E-7,
 "meanPixelSize": 0.08226585163400432,
 "datasetFormat": "TIFF",
 "uncompressedSize": 83889792,
 "blockWidth": 128,
 "blockHeight": 128,
 "compressionType": "LZW",
 "bandNames": [
  "Band_1",
  "Band_2",
  "Band_3"
 ],
 "allowCopy": true,
 "allowAnalysis": true,
 "itemAccess": false,
 "inspectionCapabilities": "",
 "noDataValue": 255,
 "noDataValues": [
  255,
  255,
  255
 ],
 "minPixelSize": 0,
 "maxPixelSize": 0,
 "copyrightText": "",
 "serviceDataType": "esriImageServiceDataTypeRGB",
 "serviceSourceType": "esriImageServiceSourceTypeDataset",
 "objectIdField": "",
 "fields": [],
 "capabilities": "Image,Metadata,Mensuration",
 "defaultMosaicMethod": "Center",
 "allowedMosaicMethods": "",
 "sortField": "",
 "sortValue": null,
 "sortAscending": true,
 "mosaicOperator": "First",
 "defaultCompressionQuality": 75,
 "defaultResamplingMethod": "Bilinear",
 "maxImageHeight": 4100,
 "maxImageWidth": 15000,
 "allowRasterFunction": true,
 "rasterFunctionInfos": [
  {
   "name": "None",
   "description": "",
   "help": ""
  }
 ],
 "rasterTypeInfos": [
  {
   "name": "Raster Dataset",
   "description": "Supports all ArcGIS Raster Datasets",
   "help": ""
  }
 ],
 "mensurationCapabilities": "Basic",
 "hasHistograms": true,
 "hasColormap": false,
 "hasRasterAttributeTable": false,
 "minScale": 0,
 "maxScale": 0,
 "exportTilesAllowed": false,
 "supportsStatistics": false,
 "supportsAdvancedQueries": false,
 "editFieldsInfo": null,
 "ownershipBasedAccessControlForRasters": null,
 "allowComputeTiePoints": false,
 "useStandardizedQueries": true,
 "advancedQueryCapabilities": {
  "useStandardizedQueries": true,
  "supportsStatistics": false,
  "supportsOrderBy": false,
  "supportsDistinct": false,
  "supportsPagination": false
 },
 "spatialReference": {
  "wkid": 4326,
  "latestWkid": 4326,
  "vcsWkid": 5773,
  "latestVcsWkid": 5773
 }
}
